BEGIN:VCALENDAR
VERSION:2.0
PRODID:-//First St John - ECPv6.15.20//NONSGML v1.0//EN
CALSCALE:GREGORIAN
METHOD:PUBLISH
X-ORIGINAL-URL:https://firststjohn.com
X-WR-CALDESC:Events for First St John
REFRESH-INTERVAL;VALUE=DURATION:PT1H
X-Robots-Tag:noindex
X-PUBLISHED-TTL:PT1H
BEGIN:VTIMEZONE
TZID:America/Detroit
BEGIN:DAYLIGHT
TZOFFSETFROM:-0500
TZOFFSETTO:-0400
TZNAME:EDT
DTSTART:20260308T070000
END:DAYLIGHT
BEGIN:STANDARD
TZOFFSETFROM:-0400
TZOFFSETTO:-0500
TZNAME:EST
DTSTART:20261101T060000
END:STANDARD
BEGIN:DAYLIGHT
TZOFFSETFROM:-0500
TZOFFSETTO:-0400
TZNAME:EDT
DTSTART:20270314T070000
END:DAYLIGHT
BEGIN:STANDARD
TZOFFSETFROM:-0400
TZOFFSETTO:-0500
TZNAME:EST
DTSTART:20271107T060000
END:STANDARD
BEGIN:DAYLIGHT
TZOFFSETFROM:-0500
TZOFFSETTO:-0400
TZNAME:EDT
DTSTART:20280312T070000
END:DAYLIGHT
BEGIN:STANDARD
TZOFFSETFROM:-0400
TZOFFSETTO:-0500
TZNAME:EST
DTSTART:20281105T060000
END:STANDARD
BEGIN:DAYLIGHT
TZOFFSETFROM:-0500
TZOFFSETTO:-0400
TZNAME:EDT
DTSTART:20290311T070000
END:DAYLIGHT
BEGIN:STANDARD
TZOFFSETFROM:-0400
TZOFFSETTO:-0500
TZNAME:EST
DTSTART:20291104T060000
END:STANDARD
END:VTIMEZONE
BEGIN:VEVENT
DTSTART;TZID=America/Detroit:20270628T173000
DTEND;TZID=America/Detroit:20270628T173000
DTSTAMP:20260425T064737
CREATED:20250908T170450Z
LAST-MODIFIED:20250908T170450Z
UID:10013474-1814203800-1814203800@firststjohn.com
SUMMARY:Bell Choir
DESCRIPTION:FIRST ST. JOHN BELL CHOIR\nOur fabulous Bell Choir is looking for people to join us starting Sept. 15h in the church at 5:30 pm. We will give you instructions on how to hold and ring the bell. Come and give it a try! Contact Cheri  Sergent for any questions at (419) 410-3572.
URL:https://firststjohn.com/event/bell-choir-4/2027-06-28/
CATEGORIES:Bell Choir,Featured
ATTACH;FMTTYPE=image/jpeg:https://firststjohn.com/wp-content/uploads/2024/03/IMG_1561-scaled.jpeg
END:VEVENT
BEGIN:VEVENT
DTSTART;TZID=America/Detroit:20270705T173000
DTEND;TZID=America/Detroit:20270705T173000
DTSTAMP:20260425T064737
CREATED:20250908T170450Z
LAST-MODIFIED:20250908T170450Z
UID:10013475-1814808600-1814808600@firststjohn.com
SUMMARY:Bell Choir
DESCRIPTION:FIRST ST. JOHN BELL CHOIR\nOur fabulous Bell Choir is looking for people to join us starting Sept. 15h in the church at 5:30 pm. We will give you instructions on how to hold and ring the bell. Come and give it a try! Contact Cheri  Sergent for any questions at (419) 410-3572.
URL:https://firststjohn.com/event/bell-choir-4/2027-07-05/
CATEGORIES:Bell Choir,Featured
ATTACH;FMTTYPE=image/jpeg:https://firststjohn.com/wp-content/uploads/2024/03/IMG_1561-scaled.jpeg
END:VEVENT
BEGIN:VEVENT
DTSTART;TZID=America/Detroit:20270712T173000
DTEND;TZID=America/Detroit:20270712T173000
DTSTAMP:20260425T064737
CREATED:20250908T170450Z
LAST-MODIFIED:20250908T170450Z
UID:10013476-1815413400-1815413400@firststjohn.com
SUMMARY:Bell Choir
DESCRIPTION:FIRST ST. JOHN BELL CHOIR\nOur fabulous Bell Choir is looking for people to join us starting Sept. 15h in the church at 5:30 pm. We will give you instructions on how to hold and ring the bell. Come and give it a try! Contact Cheri  Sergent for any questions at (419) 410-3572.
URL:https://firststjohn.com/event/bell-choir-4/2027-07-12/
CATEGORIES:Bell Choir,Featured
ATTACH;FMTTYPE=image/jpeg:https://firststjohn.com/wp-content/uploads/2024/03/IMG_1561-scaled.jpeg
END:VEVENT
BEGIN:VEVENT
DTSTART;TZID=America/Detroit:20270719T173000
DTEND;TZID=America/Detroit:20270719T173000
DTSTAMP:20260425T064737
CREATED:20250908T170450Z
LAST-MODIFIED:20250908T170450Z
UID:10013477-1816018200-1816018200@firststjohn.com
SUMMARY:Bell Choir
DESCRIPTION:FIRST ST. JOHN BELL CHOIR\nOur fabulous Bell Choir is looking for people to join us starting Sept. 15h in the church at 5:30 pm. We will give you instructions on how to hold and ring the bell. Come and give it a try! Contact Cheri  Sergent for any questions at (419) 410-3572.
URL:https://firststjohn.com/event/bell-choir-4/2027-07-19/
CATEGORIES:Bell Choir,Featured
ATTACH;FMTTYPE=image/jpeg:https://firststjohn.com/wp-content/uploads/2024/03/IMG_1561-scaled.jpeg
END:VEVENT
BEGIN:VEVENT
DTSTART;TZID=America/Detroit:20270726T173000
DTEND;TZID=America/Detroit:20270726T173000
DTSTAMP:20260425T064737
CREATED:20250908T170450Z
LAST-MODIFIED:20250908T170450Z
UID:10013478-1816623000-1816623000@firststjohn.com
SUMMARY:Bell Choir
DESCRIPTION:FIRST ST. JOHN BELL CHOIR\nOur fabulous Bell Choir is looking for people to join us starting Sept. 15h in the church at 5:30 pm. We will give you instructions on how to hold and ring the bell. Come and give it a try! Contact Cheri  Sergent for any questions at (419) 410-3572.
URL:https://firststjohn.com/event/bell-choir-4/2027-07-26/
CATEGORIES:Bell Choir,Featured
ATTACH;FMTTYPE=image/jpeg:https://firststjohn.com/wp-content/uploads/2024/03/IMG_1561-scaled.jpeg
END:VEVENT
BEGIN:VEVENT
DTSTART;TZID=America/Detroit:20270802T173000
DTEND;TZID=America/Detroit:20270802T173000
DTSTAMP:20260425T064737
CREATED:20250908T170450Z
LAST-MODIFIED:20250908T170450Z
UID:10013479-1817227800-1817227800@firststjohn.com
SUMMARY:Bell Choir
DESCRIPTION:FIRST ST. JOHN BELL CHOIR\nOur fabulous Bell Choir is looking for people to join us starting Sept. 15h in the church at 5:30 pm. We will give you instructions on how to hold and ring the bell. Come and give it a try! Contact Cheri  Sergent for any questions at (419) 410-3572.
URL:https://firststjohn.com/event/bell-choir-4/2027-08-02/
CATEGORIES:Bell Choir,Featured
ATTACH;FMTTYPE=image/jpeg:https://firststjohn.com/wp-content/uploads/2024/03/IMG_1561-scaled.jpeg
END:VEVENT
BEGIN:VEVENT
DTSTART;TZID=America/Detroit:20270809T173000
DTEND;TZID=America/Detroit:20270809T173000
DTSTAMP:20260425T064737
CREATED:20250908T170450Z
LAST-MODIFIED:20250908T170450Z
UID:10013480-1817832600-1817832600@firststjohn.com
SUMMARY:Bell Choir
DESCRIPTION:FIRST ST. JOHN BELL CHOIR\nOur fabulous Bell Choir is looking for people to join us starting Sept. 15h in the church at 5:30 pm. We will give you instructions on how to hold and ring the bell. Come and give it a try! Contact Cheri  Sergent for any questions at (419) 410-3572.
URL:https://firststjohn.com/event/bell-choir-4/2027-08-09/
CATEGORIES:Bell Choir,Featured
ATTACH;FMTTYPE=image/jpeg:https://firststjohn.com/wp-content/uploads/2024/03/IMG_1561-scaled.jpeg
END:VEVENT
BEGIN:VEVENT
DTSTART;TZID=America/Detroit:20270816T173000
DTEND;TZID=America/Detroit:20270816T173000
DTSTAMP:20260425T064737
CREATED:20250908T170450Z
LAST-MODIFIED:20250908T170450Z
UID:10013481-1818437400-1818437400@firststjohn.com
SUMMARY:Bell Choir
DESCRIPTION:FIRST ST. JOHN BELL CHOIR\nOur fabulous Bell Choir is looking for people to join us starting Sept. 15h in the church at 5:30 pm. We will give you instructions on how to hold and ring the bell. Come and give it a try! Contact Cheri  Sergent for any questions at (419) 410-3572.
URL:https://firststjohn.com/event/bell-choir-4/2027-08-16/
CATEGORIES:Bell Choir,Featured
ATTACH;FMTTYPE=image/jpeg:https://firststjohn.com/wp-content/uploads/2024/03/IMG_1561-scaled.jpeg
END:VEVENT
BEGIN:VEVENT
DTSTART;TZID=America/Detroit:20270823T173000
DTEND;TZID=America/Detroit:20270823T173000
DTSTAMP:20260425T064737
CREATED:20250908T170450Z
LAST-MODIFIED:20250908T170450Z
UID:10013482-1819042200-1819042200@firststjohn.com
SUMMARY:Bell Choir
DESCRIPTION:FIRST ST. JOHN BELL CHOIR\nOur fabulous Bell Choir is looking for people to join us starting Sept. 15h in the church at 5:30 pm. We will give you instructions on how to hold and ring the bell. Come and give it a try! Contact Cheri  Sergent for any questions at (419) 410-3572.
URL:https://firststjohn.com/event/bell-choir-4/2027-08-23/
CATEGORIES:Bell Choir,Featured
ATTACH;FMTTYPE=image/jpeg:https://firststjohn.com/wp-content/uploads/2024/03/IMG_1561-scaled.jpeg
END:VEVENT
BEGIN:VEVENT
DTSTART;TZID=America/Detroit:20270830T173000
DTEND;TZID=America/Detroit:20270830T173000
DTSTAMP:20260425T064737
CREATED:20250908T170450Z
LAST-MODIFIED:20250908T170450Z
UID:10013483-1819647000-1819647000@firststjohn.com
SUMMARY:Bell Choir
DESCRIPTION:FIRST ST. JOHN BELL CHOIR\nOur fabulous Bell Choir is looking for people to join us starting Sept. 15h in the church at 5:30 pm. We will give you instructions on how to hold and ring the bell. Come and give it a try! Contact Cheri  Sergent for any questions at (419) 410-3572.
URL:https://firststjohn.com/event/bell-choir-4/2027-08-30/
CATEGORIES:Bell Choir,Featured
ATTACH;FMTTYPE=image/jpeg:https://firststjohn.com/wp-content/uploads/2024/03/IMG_1561-scaled.jpeg
END:VEVENT
BEGIN:VEVENT
DTSTART;TZID=America/Detroit:20270906T173000
DTEND;TZID=America/Detroit:20270906T173000
DTSTAMP:20260425T064737
CREATED:20250908T170450Z
LAST-MODIFIED:20250908T170450Z
UID:10013484-1820251800-1820251800@firststjohn.com
SUMMARY:Bell Choir
DESCRIPTION:FIRST ST. JOHN BELL CHOIR\nOur fabulous Bell Choir is looking for people to join us starting Sept. 15h in the church at 5:30 pm. We will give you instructions on how to hold and ring the bell. Come and give it a try! Contact Cheri  Sergent for any questions at (419) 410-3572.
URL:https://firststjohn.com/event/bell-choir-4/2027-09-06/
CATEGORIES:Bell Choir,Featured
ATTACH;FMTTYPE=image/jpeg:https://firststjohn.com/wp-content/uploads/2024/03/IMG_1561-scaled.jpeg
END:VEVENT
BEGIN:VEVENT
DTSTART;TZID=America/Detroit:20270913T173000
DTEND;TZID=America/Detroit:20270913T173000
DTSTAMP:20260425T064737
CREATED:20250908T170450Z
LAST-MODIFIED:20250908T170450Z
UID:10013485-1820856600-1820856600@firststjohn.com
SUMMARY:Bell Choir
DESCRIPTION:FIRST ST. JOHN BELL CHOIR\nOur fabulous Bell Choir is looking for people to join us starting Sept. 15h in the church at 5:30 pm. We will give you instructions on how to hold and ring the bell. Come and give it a try! Contact Cheri  Sergent for any questions at (419) 410-3572.
URL:https://firststjohn.com/event/bell-choir-4/2027-09-13/
CATEGORIES:Bell Choir,Featured
ATTACH;FMTTYPE=image/jpeg:https://firststjohn.com/wp-content/uploads/2024/03/IMG_1561-scaled.jpeg
END:VEVENT
BEGIN:VEVENT
DTSTART;TZID=America/Detroit:20270920T173000
DTEND;TZID=America/Detroit:20270920T173000
DTSTAMP:20260425T064737
CREATED:20250908T170450Z
LAST-MODIFIED:20250908T170450Z
UID:10013486-1821461400-1821461400@firststjohn.com
SUMMARY:Bell Choir
DESCRIPTION:FIRST ST. JOHN BELL CHOIR\nOur fabulous Bell Choir is looking for people to join us starting Sept. 15h in the church at 5:30 pm. We will give you instructions on how to hold and ring the bell. Come and give it a try! Contact Cheri  Sergent for any questions at (419) 410-3572.
URL:https://firststjohn.com/event/bell-choir-4/2027-09-20/
CATEGORIES:Bell Choir,Featured
ATTACH;FMTTYPE=image/jpeg:https://firststjohn.com/wp-content/uploads/2024/03/IMG_1561-scaled.jpeg
END:VEVENT
BEGIN:VEVENT
DTSTART;TZID=America/Detroit:20270927T173000
DTEND;TZID=America/Detroit:20270927T173000
DTSTAMP:20260425T064737
CREATED:20250908T170450Z
LAST-MODIFIED:20250908T170450Z
UID:10013487-1822066200-1822066200@firststjohn.com
SUMMARY:Bell Choir
DESCRIPTION:FIRST ST. JOHN BELL CHOIR\nOur fabulous Bell Choir is looking for people to join us starting Sept. 15h in the church at 5:30 pm. We will give you instructions on how to hold and ring the bell. Come and give it a try! Contact Cheri  Sergent for any questions at (419) 410-3572.
URL:https://firststjohn.com/event/bell-choir-4/2027-09-27/
CATEGORIES:Bell Choir,Featured
ATTACH;FMTTYPE=image/jpeg:https://firststjohn.com/wp-content/uploads/2024/03/IMG_1561-scaled.jpeg
END:VEVENT
BEGIN:VEVENT
DTSTART;TZID=America/Detroit:20271004T173000
DTEND;TZID=America/Detroit:20271004T173000
DTSTAMP:20260425T064737
CREATED:20250908T170450Z
LAST-MODIFIED:20250908T170450Z
UID:10013488-1822671000-1822671000@firststjohn.com
SUMMARY:Bell Choir
DESCRIPTION:FIRST ST. JOHN BELL CHOIR\nOur fabulous Bell Choir is looking for people to join us starting Sept. 15h in the church at 5:30 pm. We will give you instructions on how to hold and ring the bell. Come and give it a try! Contact Cheri  Sergent for any questions at (419) 410-3572.
URL:https://firststjohn.com/event/bell-choir-4/2027-10-04/
CATEGORIES:Bell Choir,Featured
ATTACH;FMTTYPE=image/jpeg:https://firststjohn.com/wp-content/uploads/2024/03/IMG_1561-scaled.jpeg
END:VEVENT
BEGIN:VEVENT
DTSTART;TZID=America/Detroit:20271011T173000
DTEND;TZID=America/Detroit:20271011T173000
DTSTAMP:20260425T064737
CREATED:20250908T170450Z
LAST-MODIFIED:20250908T170450Z
UID:10013489-1823275800-1823275800@firststjohn.com
SUMMARY:Bell Choir
DESCRIPTION:FIRST ST. JOHN BELL CHOIR\nOur fabulous Bell Choir is looking for people to join us starting Sept. 15h in the church at 5:30 pm. We will give you instructions on how to hold and ring the bell. Come and give it a try! Contact Cheri  Sergent for any questions at (419) 410-3572.
URL:https://firststjohn.com/event/bell-choir-4/2027-10-11/
CATEGORIES:Bell Choir,Featured
ATTACH;FMTTYPE=image/jpeg:https://firststjohn.com/wp-content/uploads/2024/03/IMG_1561-scaled.jpeg
END:VEVENT
BEGIN:VEVENT
DTSTART;TZID=America/Detroit:20271018T173000
DTEND;TZID=America/Detroit:20271018T173000
DTSTAMP:20260425T064737
CREATED:20250908T170450Z
LAST-MODIFIED:20250908T170450Z
UID:10013490-1823880600-1823880600@firststjohn.com
SUMMARY:Bell Choir
DESCRIPTION:FIRST ST. JOHN BELL CHOIR\nOur fabulous Bell Choir is looking for people to join us starting Sept. 15h in the church at 5:30 pm. We will give you instructions on how to hold and ring the bell. Come and give it a try! Contact Cheri  Sergent for any questions at (419) 410-3572.
URL:https://firststjohn.com/event/bell-choir-4/2027-10-18/
CATEGORIES:Bell Choir,Featured
ATTACH;FMTTYPE=image/jpeg:https://firststjohn.com/wp-content/uploads/2024/03/IMG_1561-scaled.jpeg
END:VEVENT
BEGIN:VEVENT
DTSTART;TZID=America/Detroit:20271025T173000
DTEND;TZID=America/Detroit:20271025T173000
DTSTAMP:20260425T064737
CREATED:20250908T170450Z
LAST-MODIFIED:20250908T170450Z
UID:10013491-1824485400-1824485400@firststjohn.com
SUMMARY:Bell Choir
DESCRIPTION:FIRST ST. JOHN BELL CHOIR\nOur fabulous Bell Choir is looking for people to join us starting Sept. 15h in the church at 5:30 pm. We will give you instructions on how to hold and ring the bell. Come and give it a try! Contact Cheri  Sergent for any questions at (419) 410-3572.
URL:https://firststjohn.com/event/bell-choir-4/2027-10-25/
CATEGORIES:Bell Choir,Featured
ATTACH;FMTTYPE=image/jpeg:https://firststjohn.com/wp-content/uploads/2024/03/IMG_1561-scaled.jpeg
END:VEVENT
BEGIN:VEVENT
DTSTART;TZID=America/Detroit:20271101T173000
DTEND;TZID=America/Detroit:20271101T173000
DTSTAMP:20260425T064737
CREATED:20250908T170450Z
LAST-MODIFIED:20250908T170450Z
UID:10013492-1825090200-1825090200@firststjohn.com
SUMMARY:Bell Choir
DESCRIPTION:FIRST ST. JOHN BELL CHOIR\nOur fabulous Bell Choir is looking for people to join us starting Sept. 15h in the church at 5:30 pm. We will give you instructions on how to hold and ring the bell. Come and give it a try! Contact Cheri  Sergent for any questions at (419) 410-3572.
URL:https://firststjohn.com/event/bell-choir-4/2027-11-01/
CATEGORIES:Bell Choir,Featured
ATTACH;FMTTYPE=image/jpeg:https://firststjohn.com/wp-content/uploads/2024/03/IMG_1561-scaled.jpeg
END:VEVENT
BEGIN:VEVENT
DTSTART;TZID=America/Detroit:20271108T173000
DTEND;TZID=America/Detroit:20271108T173000
DTSTAMP:20260425T064737
CREATED:20250908T170450Z
LAST-MODIFIED:20250908T170450Z
UID:10013493-1825695000-1825695000@firststjohn.com
SUMMARY:Bell Choir
DESCRIPTION:FIRST ST. JOHN BELL CHOIR\nOur fabulous Bell Choir is looking for people to join us starting Sept. 15h in the church at 5:30 pm. We will give you instructions on how to hold and ring the bell. Come and give it a try! Contact Cheri  Sergent for any questions at (419) 410-3572.
URL:https://firststjohn.com/event/bell-choir-4/2027-11-08/
CATEGORIES:Bell Choir,Featured
ATTACH;FMTTYPE=image/jpeg:https://firststjohn.com/wp-content/uploads/2024/03/IMG_1561-scaled.jpeg
END:VEVENT
BEGIN:VEVENT
DTSTART;TZID=America/Detroit:20271115T173000
DTEND;TZID=America/Detroit:20271115T173000
DTSTAMP:20260425T064737
CREATED:20250908T170450Z
LAST-MODIFIED:20250908T170450Z
UID:10013494-1826299800-1826299800@firststjohn.com
SUMMARY:Bell Choir
DESCRIPTION:FIRST ST. JOHN BELL CHOIR\nOur fabulous Bell Choir is looking for people to join us starting Sept. 15h in the church at 5:30 pm. We will give you instructions on how to hold and ring the bell. Come and give it a try! Contact Cheri  Sergent for any questions at (419) 410-3572.
URL:https://firststjohn.com/event/bell-choir-4/2027-11-15/
CATEGORIES:Bell Choir,Featured
ATTACH;FMTTYPE=image/jpeg:https://firststjohn.com/wp-content/uploads/2024/03/IMG_1561-scaled.jpeg
END:VEVENT
BEGIN:VEVENT
DTSTART;TZID=America/Detroit:20271122T173000
DTEND;TZID=America/Detroit:20271122T173000
DTSTAMP:20260425T064737
CREATED:20250908T170450Z
LAST-MODIFIED:20250908T170450Z
UID:10013495-1826904600-1826904600@firststjohn.com
SUMMARY:Bell Choir
DESCRIPTION:FIRST ST. JOHN BELL CHOIR\nOur fabulous Bell Choir is looking for people to join us starting Sept. 15h in the church at 5:30 pm. We will give you instructions on how to hold and ring the bell. Come and give it a try! Contact Cheri  Sergent for any questions at (419) 410-3572.
URL:https://firststjohn.com/event/bell-choir-4/2027-11-22/
CATEGORIES:Bell Choir,Featured
ATTACH;FMTTYPE=image/jpeg:https://firststjohn.com/wp-content/uploads/2024/03/IMG_1561-scaled.jpeg
END:VEVENT
BEGIN:VEVENT
DTSTART;TZID=America/Detroit:20271129T173000
DTEND;TZID=America/Detroit:20271129T173000
DTSTAMP:20260425T064737
CREATED:20250908T170450Z
LAST-MODIFIED:20250908T170450Z
UID:10013496-1827509400-1827509400@firststjohn.com
SUMMARY:Bell Choir
DESCRIPTION:FIRST ST. JOHN BELL CHOIR\nOur fabulous Bell Choir is looking for people to join us starting Sept. 15h in the church at 5:30 pm. We will give you instructions on how to hold and ring the bell. Come and give it a try! Contact Cheri  Sergent for any questions at (419) 410-3572.
URL:https://firststjohn.com/event/bell-choir-4/2027-11-29/
CATEGORIES:Bell Choir,Featured
ATTACH;FMTTYPE=image/jpeg:https://firststjohn.com/wp-content/uploads/2024/03/IMG_1561-scaled.jpeg
END:VEVENT
BEGIN:VEVENT
DTSTART;TZID=America/Detroit:20271206T173000
DTEND;TZID=America/Detroit:20271206T173000
DTSTAMP:20260425T064737
CREATED:20250908T170450Z
LAST-MODIFIED:20250908T170450Z
UID:10013497-1828114200-1828114200@firststjohn.com
SUMMARY:Bell Choir
DESCRIPTION:FIRST ST. JOHN BELL CHOIR\nOur fabulous Bell Choir is looking for people to join us starting Sept. 15h in the church at 5:30 pm. We will give you instructions on how to hold and ring the bell. Come and give it a try! Contact Cheri  Sergent for any questions at (419) 410-3572.
URL:https://firststjohn.com/event/bell-choir-4/2027-12-06/
CATEGORIES:Bell Choir,Featured
ATTACH;FMTTYPE=image/jpeg:https://firststjohn.com/wp-content/uploads/2024/03/IMG_1561-scaled.jpeg
END:VEVENT
BEGIN:VEVENT
DTSTART;TZID=America/Detroit:20271213T173000
DTEND;TZID=America/Detroit:20271213T173000
DTSTAMP:20260425T064737
CREATED:20250908T170450Z
LAST-MODIFIED:20250908T170450Z
UID:10013498-1828719000-1828719000@firststjohn.com
SUMMARY:Bell Choir
DESCRIPTION:FIRST ST. JOHN BELL CHOIR\nOur fabulous Bell Choir is looking for people to join us starting Sept. 15h in the church at 5:30 pm. We will give you instructions on how to hold and ring the bell. Come and give it a try! Contact Cheri  Sergent for any questions at (419) 410-3572.
URL:https://firststjohn.com/event/bell-choir-4/2027-12-13/
CATEGORIES:Bell Choir,Featured
ATTACH;FMTTYPE=image/jpeg:https://firststjohn.com/wp-content/uploads/2024/03/IMG_1561-scaled.jpeg
END:VEVENT
BEGIN:VEVENT
DTSTART;TZID=America/Detroit:20271220T173000
DTEND;TZID=America/Detroit:20271220T173000
DTSTAMP:20260425T064737
CREATED:20250908T170450Z
LAST-MODIFIED:20250908T170450Z
UID:10013499-1829323800-1829323800@firststjohn.com
SUMMARY:Bell Choir
DESCRIPTION:FIRST ST. JOHN BELL CHOIR\nOur fabulous Bell Choir is looking for people to join us starting Sept. 15h in the church at 5:30 pm. We will give you instructions on how to hold and ring the bell. Come and give it a try! Contact Cheri  Sergent for any questions at (419) 410-3572.
URL:https://firststjohn.com/event/bell-choir-4/2027-12-20/
CATEGORIES:Bell Choir,Featured
ATTACH;FMTTYPE=image/jpeg:https://firststjohn.com/wp-content/uploads/2024/03/IMG_1561-scaled.jpeg
END:VEVENT
BEGIN:VEVENT
DTSTART;TZID=America/Detroit:20271227T173000
DTEND;TZID=America/Detroit:20271227T173000
DTSTAMP:20260425T064737
CREATED:20250908T170450Z
LAST-MODIFIED:20250908T170450Z
UID:10013500-1829928600-1829928600@firststjohn.com
SUMMARY:Bell Choir
DESCRIPTION:FIRST ST. JOHN BELL CHOIR\nOur fabulous Bell Choir is looking for people to join us starting Sept. 15h in the church at 5:30 pm. We will give you instructions on how to hold and ring the bell. Come and give it a try! Contact Cheri  Sergent for any questions at (419) 410-3572.
URL:https://firststjohn.com/event/bell-choir-4/2027-12-27/
CATEGORIES:Bell Choir,Featured
ATTACH;FMTTYPE=image/jpeg:https://firststjohn.com/wp-content/uploads/2024/03/IMG_1561-scaled.jpeg
END:VEVENT
BEGIN:VEVENT
DTSTART;TZID=America/Detroit:20280103T173000
DTEND;TZID=America/Detroit:20280103T173000
DTSTAMP:20260425T064737
CREATED:20250908T170450Z
LAST-MODIFIED:20250908T170450Z
UID:10013501-1830533400-1830533400@firststjohn.com
SUMMARY:Bell Choir
DESCRIPTION:FIRST ST. JOHN BELL CHOIR\nOur fabulous Bell Choir is looking for people to join us starting Sept. 15h in the church at 5:30 pm. We will give you instructions on how to hold and ring the bell. Come and give it a try! Contact Cheri  Sergent for any questions at (419) 410-3572.
URL:https://firststjohn.com/event/bell-choir-4/2028-01-03/
CATEGORIES:Bell Choir,Featured
ATTACH;FMTTYPE=image/jpeg:https://firststjohn.com/wp-content/uploads/2024/03/IMG_1561-scaled.jpeg
END:VEVENT
BEGIN:VEVENT
DTSTART;TZID=America/Detroit:20280110T173000
DTEND;TZID=America/Detroit:20280110T173000
DTSTAMP:20260425T064737
CREATED:20250908T170450Z
LAST-MODIFIED:20250908T170450Z
UID:10013502-1831138200-1831138200@firststjohn.com
SUMMARY:Bell Choir
DESCRIPTION:FIRST ST. JOHN BELL CHOIR\nOur fabulous Bell Choir is looking for people to join us starting Sept. 15h in the church at 5:30 pm. We will give you instructions on how to hold and ring the bell. Come and give it a try! Contact Cheri  Sergent for any questions at (419) 410-3572.
URL:https://firststjohn.com/event/bell-choir-4/2028-01-10/
CATEGORIES:Bell Choir,Featured
ATTACH;FMTTYPE=image/jpeg:https://firststjohn.com/wp-content/uploads/2024/03/IMG_1561-scaled.jpeg
END:VEVENT
BEGIN:VEVENT
DTSTART;TZID=America/Detroit:20280117T173000
DTEND;TZID=America/Detroit:20280117T173000
DTSTAMP:20260425T064737
CREATED:20250908T170450Z
LAST-MODIFIED:20250908T170450Z
UID:10013503-1831743000-1831743000@firststjohn.com
SUMMARY:Bell Choir
DESCRIPTION:FIRST ST. JOHN BELL CHOIR\nOur fabulous Bell Choir is looking for people to join us starting Sept. 15h in the church at 5:30 pm. We will give you instructions on how to hold and ring the bell. Come and give it a try! Contact Cheri  Sergent for any questions at (419) 410-3572.
URL:https://firststjohn.com/event/bell-choir-4/2028-01-17/
CATEGORIES:Bell Choir,Featured
ATTACH;FMTTYPE=image/jpeg:https://firststjohn.com/wp-content/uploads/2024/03/IMG_1561-scaled.jpeg
END:VEVENT
END:VCALENDAR