BEGIN:VCALENDAR
VERSION:2.0
PRODID:-//First St John - ECPv6.15.20//NONSGML v1.0//EN
CALSCALE:GREGORIAN
METHOD:PUBLISH
X-WR-CALNAME:First St John
X-ORIGINAL-URL:https://firststjohn.com
X-WR-CALDESC:Events for First St John
REFRESH-INTERVAL;VALUE=DURATION:PT1H
X-Robots-Tag:noindex
X-PUBLISHED-TTL:PT1H
BEGIN:VTIMEZONE
TZID:America/Detroit
BEGIN:DAYLIGHT
TZOFFSETFROM:-0500
TZOFFSETTO:-0400
TZNAME:EDT
DTSTART:20250309T070000
END:DAYLIGHT
BEGIN:STANDARD
TZOFFSETFROM:-0400
TZOFFSETTO:-0500
TZNAME:EST
DTSTART:20251102T060000
END:STANDARD
BEGIN:DAYLIGHT
TZOFFSETFROM:-0500
TZOFFSETTO:-0400
TZNAME:EDT
DTSTART:20260308T070000
END:DAYLIGHT
BEGIN:STANDARD
TZOFFSETFROM:-0400
TZOFFSETTO:-0500
TZNAME:EST
DTSTART:20261101T060000
END:STANDARD
BEGIN:DAYLIGHT
TZOFFSETFROM:-0500
TZOFFSETTO:-0400
TZNAME:EDT
DTSTART:20270314T070000
END:DAYLIGHT
BEGIN:STANDARD
TZOFFSETFROM:-0400
TZOFFSETTO:-0500
TZNAME:EST
DTSTART:20271107T060000
END:STANDARD
END:VTIMEZONE
BEGIN:VEVENT
DTSTART;VALUE=DATE:20260401
DTEND;VALUE=DATE:20260407
DTSTAMP:20260423T124239
CREATED:20260402T151308Z
LAST-MODIFIED:20260402T151308Z
UID:10015114-1775001600-1775519999@firststjohn.com
SUMMARY:SCHOOL SPRING BREAK
DESCRIPTION:
URL:https://firststjohn.com/event/school-spring-break/
CATEGORIES:Dayschool
ORGANIZER;CN="Jennifer Hess":MAILTO:office@firststjohn.com
END:VEVENT
BEGIN:VEVENT
DTSTART;VALUE=DATE:20260403
DTEND;VALUE=DATE:20260404
DTSTAMP:20260423T124239
CREATED:20260402T152139Z
LAST-MODIFIED:20260402T152139Z
UID:10015117-1775174400-1775260799@firststjohn.com
SUMMARY:GOOD FRIDAY
DESCRIPTION:Good Friday is celebrated by Christians to commemorate the crucifixion and death of Jesus Christ\, viewed as the ultimate sacrifice for humanity’s sins. It is a solemn day focusing on Jesus’ love and redemption\, serving as a vital precursor to the joy of his resurrection on Easter Sunday.
URL:https://firststjohn.com/event/good-friday-2/
ORGANIZER;CN="Jennifer Hess":MAILTO:office@firststjohn.com
END:VEVENT
BEGIN:VEVENT
DTSTART;TZID=America/Detroit:20260403T120000
DTEND;TZID=America/Detroit:20260403T120000
DTSTAMP:20260423T124239
CREATED:20260402T151728Z
LAST-MODIFIED:20260402T151728Z
UID:10015115-1775217600-1775217600@firststjohn.com
SUMMARY:Good Friday Service
DESCRIPTION:Lenten season is upon us and services will begin on Wednesday\, March 5th for Ash Wednesday services at 11am and 7pm\, and each Wednesday at 11am and 7pm for Lent until Easter.
URL:https://firststjohn.com/event/lenten-service-8-2-2/
LOCATION:Sanctuary\, 2471 Seaman St\, Toledo\, OH\, 43605\, United States
CATEGORIES:Children,Deacons,Elders,Trustees,Worship,Youth
ATTACH;FMTTYPE=image/jpeg:https://firststjohn.com/wp-content/uploads/2024/02/wine-and-bread.jpg
END:VEVENT
END:VCALENDAR